BEGIN:VCALENDAR
VERSION:2.0
PRODID:-//KK-Merligen - ECPv6.15.20//NONSGML v1.0//EN
CALSCALE:GREGORIAN
METHOD:PUBLISH
X-ORIGINAL-URL:https://www.kleinkaliberschuetzen-merligen.ch
X-WR-CALDESC:Veranstaltungen für KK-Merligen
REFRESH-INTERVAL;VALUE=DURATION:PT1H
X-Robots-Tag:noindex
X-PUBLISHED-TTL:PT1H
BEGIN:VTIMEZONE
TZID:Europe/Zurich
BEGIN:DAYLIGHT
TZOFFSETFROM:+0100
TZOFFSETTO:+0200
TZNAME:CEST
DTSTART:20250330T010000
END:DAYLIGHT
BEGIN:STANDARD
TZOFFSETFROM:+0200
TZOFFSETTO:+0100
TZNAME:CET
DTSTART:20251026T010000
END:STANDARD
BEGIN:DAYLIGHT
TZOFFSETFROM:+0100
TZOFFSETTO:+0200
TZNAME:CEST
DTSTART:20260329T010000
END:DAYLIGHT
BEGIN:STANDARD
TZOFFSETFROM:+0200
TZOFFSETTO:+0100
TZNAME:CET
DTSTART:20261025T010000
END:STANDARD
BEGIN:DAYLIGHT
TZOFFSETFROM:+0100
TZOFFSETTO:+0200
TZNAME:CEST
DTSTART:20270328T010000
END:DAYLIGHT
BEGIN:STANDARD
TZOFFSETFROM:+0200
TZOFFSETTO:+0100
TZNAME:CET
DTSTART:20271031T010000
END:STANDARD
END:VTIMEZONE
BEGIN:VEVENT
DTSTART;TZID=Europe/Zurich:20260613T090000
DTEND;TZID=Europe/Zurich:20260613T141500
DTSTAMP:20260421T180416
CREATED:20260216T090240Z
LAST-MODIFIED:20260315T134441Z
UID:3059-1781341200-1781360100@www.kleinkaliberschuetzen-merligen.ch
SUMMARY:Eidgenössisches Schützenfest in Chur
DESCRIPTION:Einer der grössten Schweizer Sportanlässe im 2026. Ausgetragen in der Bündner Hauptstadt und der weiteren Umgebung! Der Anlass findet von Freitag\, 5. Juni 2026 bis Sonntag\, 5. Juli 2026 statt. \nDie Delegation aus Merligen ist am Samstag\, 13. Juni 2026 im Einsatz. \nGut Schuss allen Teilnehmer:innen! \nLink zur offiziellen Website \nLink zum Schiessplatz für die „Merliger“
URL:https://www.kleinkaliberschuetzen-merligen.ch/event/eidgenoessisches-schuetzenfest-in-chur/
LOCATION:Igis-Eichrank\, Gandastrasse\, Igis\, 7206\, Switzerland
CATEGORIES:Auswärts
END:VEVENT
BEGIN:VEVENT
DTSTART;TZID=Europe/Zurich:20260614T090000
DTEND;TZID=Europe/Zurich:20260614T170000
DTSTAMP:20260421T180416
CREATED:20260112T180950Z
LAST-MODIFIED:20260315T134513Z
UID:2924-1781427600-1781456400@www.kleinkaliberschuetzen-merligen.ch
SUMMARY:Hauptschiesstag MM4
DESCRIPTION:4. Runde: bis 21. Juni 2026
URL:https://www.kleinkaliberschuetzen-merligen.ch/event/hauptschiesstag-mm4/
LOCATION:Schützenhaus Ralligholz\, Bäreggweg\, Merligen\, 3658
CATEGORIES:Mannschaftsmeisterschaft,Ralligholz
END:VEVENT
BEGIN:VEVENT
DTSTART;TZID=Europe/Zurich:20260628T090000
DTEND;TZID=Europe/Zurich:20260628T170000
DTSTAMP:20260421T180416
CREATED:20260112T181156Z
LAST-MODIFIED:20260315T134631Z
UID:2926-1782637200-1782666000@www.kleinkaliberschuetzen-merligen.ch
SUMMARY:Hauptschiesstag MM5
DESCRIPTION:5. Runde: bis 05. Juli 2026
URL:https://www.kleinkaliberschuetzen-merligen.ch/event/hauptschiesstag-mm5/
LOCATION:Schützenhaus Ralligholz\, Bäreggweg\, Merligen\, 3658
CATEGORIES:Mannschaftsmeisterschaft,Ralligholz
END:VEVENT
BEGIN:VEVENT
DTSTART;TZID=Europe/Zurich:20260628T100000
DTEND;TZID=Europe/Zurich:20260628T100000
DTSTAMP:20260421T180416
CREATED:20260216T112822Z
LAST-MODIFIED:20260315T134659Z
UID:3076-1782640800-1782640800@www.kleinkaliberschuetzen-merligen.ch
SUMMARY:Freundschaftsschiessen
DESCRIPTION:Freundschafts-Schiessen mit SPS Jungfrau (Mürren)
URL:https://www.kleinkaliberschuetzen-merligen.ch/event/eventuelles-freundschaftsschiessen/
LOCATION:Schützenhaus Ralligholz\, Bäreggweg\, Merligen\, 3658
CATEGORIES:Ralligholz
END:VEVENT
END:VCALENDAR