BEGIN:VCALENDAR
VERSION:2.0
PRODID:-//KK-Merligen - ECPv6.15.20//NONSGML v1.0//EN
CALSCALE:GREGORIAN
METHOD:PUBLISH
X-WR-CALNAME:KK-Merligen
X-ORIGINAL-URL:https://www.kleinkaliberschuetzen-merligen.ch
X-WR-CALDESC:Veranstaltungen für KK-Merligen
REFRESH-INTERVAL;VALUE=DURATION:PT1H
X-Robots-Tag:noindex
X-PUBLISHED-TTL:PT1H
BEGIN:VTIMEZONE
TZID:Europe/Zurich
BEGIN:DAYLIGHT
TZOFFSETFROM:+0100
TZOFFSETTO:+0200
TZNAME:CEST
DTSTART:20250330T010000
END:DAYLIGHT
BEGIN:STANDARD
TZOFFSETFROM:+0200
TZOFFSETTO:+0100
TZNAME:CET
DTSTART:20251026T010000
END:STANDARD
BEGIN:DAYLIGHT
TZOFFSETFROM:+0100
TZOFFSETTO:+0200
TZNAME:CEST
DTSTART:20260329T010000
END:DAYLIGHT
BEGIN:STANDARD
TZOFFSETFROM:+0200
TZOFFSETTO:+0100
TZNAME:CET
DTSTART:20261025T010000
END:STANDARD
BEGIN:DAYLIGHT
TZOFFSETFROM:+0100
TZOFFSETTO:+0200
TZNAME:CEST
DTSTART:20270328T010000
END:DAYLIGHT
BEGIN:STANDARD
TZOFFSETFROM:+0200
TZOFFSETTO:+0100
TZNAME:CET
DTSTART:20271031T010000
END:STANDARD
END:VTIMEZONE
BEGIN:VEVENT
DTSTART;VALUE=DATE:20260830
DTEND;VALUE=DATE:20260831
DTSTAMP:20260421T222147
CREATED:20260112T183415Z
LAST-MODIFIED:20260315T135050Z
UID:2935-1788048000-1788134399@www.kleinkaliberschuetzen-merligen.ch
SUMMARY:Letzte Termine
DESCRIPTION:Letzter Termin für das Volksschiessen und das Obligatorische Programm
URL:https://www.kleinkaliberschuetzen-merligen.ch/event/letzte-termine/
LOCATION:Schützenhaus Ralligholz\, Bäreggweg\, Merligen\, 3658
CATEGORIES:Ralligholz
END:VEVENT
BEGIN:VEVENT
DTSTART;TZID=Europe/Zurich:20260830T090000
DTEND;TZID=Europe/Zurich:20260830T170000
DTSTAMP:20260421T222147
CREATED:20260112T183645Z
LAST-MODIFIED:20260315T135120Z
UID:2937-1788080400-1788109200@www.kleinkaliberschuetzen-merligen.ch
SUMMARY:Hauptschiesstag MM7
DESCRIPTION:7. Runde: bis 06. September 2026
URL:https://www.kleinkaliberschuetzen-merligen.ch/event/hauptschiesstag-mm7/
LOCATION:Schützenhaus Ralligholz\, Bäreggweg\, Merligen\, 3658
CATEGORIES:Mannschaftsmeisterschaft,Ralligholz
END:VEVENT
END:VCALENDAR