BEGIN:VCALENDAR
VERSION:2.0
PRODID:-//KK-Merligen - ECPv6.15.20//NONSGML v1.0//EN
CALSCALE:GREGORIAN
METHOD:PUBLISH
X-WR-CALNAME:KK-Merligen
X-ORIGINAL-URL:https://www.kleinkaliberschuetzen-merligen.ch
X-WR-CALDESC:Veranstaltungen für KK-Merligen
REFRESH-INTERVAL;VALUE=DURATION:PT1H
X-Robots-Tag:noindex
X-PUBLISHED-TTL:PT1H
BEGIN:VTIMEZONE
TZID:Europe/Zurich
BEGIN:DAYLIGHT
TZOFFSETFROM:+0100
TZOFFSETTO:+0200
TZNAME:CEST
DTSTART:20250330T010000
END:DAYLIGHT
BEGIN:STANDARD
TZOFFSETFROM:+0200
TZOFFSETTO:+0100
TZNAME:CET
DTSTART:20251026T010000
END:STANDARD
BEGIN:DAYLIGHT
TZOFFSETFROM:+0100
TZOFFSETTO:+0200
TZNAME:CEST
DTSTART:20260329T010000
END:DAYLIGHT
BEGIN:STANDARD
TZOFFSETFROM:+0200
TZOFFSETTO:+0100
TZNAME:CET
DTSTART:20261025T010000
END:STANDARD
BEGIN:DAYLIGHT
TZOFFSETFROM:+0100
TZOFFSETTO:+0200
TZNAME:CEST
DTSTART:20270328T010000
END:DAYLIGHT
BEGIN:STANDARD
TZOFFSETFROM:+0200
TZOFFSETTO:+0100
TZNAME:CET
DTSTART:20271031T010000
END:STANDARD
END:VTIMEZONE
BEGIN:VEVENT
DTSTART;TZID=Europe/Zurich:20260613T090000
DTEND;TZID=Europe/Zurich:20260613T141500
DTSTAMP:20260421T193217
CREATED:20260216T090240Z
LAST-MODIFIED:20260315T134441Z
UID:3059-1781341200-1781360100@www.kleinkaliberschuetzen-merligen.ch
SUMMARY:Eidgenössisches Schützenfest in Chur
DESCRIPTION:Einer der grössten Schweizer Sportanlässe im 2026. Ausgetragen in der Bündner Hauptstadt und der weiteren Umgebung! Der Anlass findet von Freitag\, 5. Juni 2026 bis Sonntag\, 5. Juli 2026 statt. \nDie Delegation aus Merligen ist am Samstag\, 13. Juni 2026 im Einsatz. \nGut Schuss allen Teilnehmer:innen! \nLink zur offiziellen Website \nLink zum Schiessplatz für die „Merliger“
URL:https://www.kleinkaliberschuetzen-merligen.ch/event/eidgenoessisches-schuetzenfest-in-chur/
LOCATION:Igis-Eichrank\, Gandastrasse\, Igis\, 7206\, Switzerland
CATEGORIES:Auswärts
END:VEVENT
END:VCALENDAR