BEGIN:VCALENDAR
VERSION:2.0
PRODID:-//KK-Merligen - ECPv6.15.20//NONSGML v1.0//EN
CALSCALE:GREGORIAN
METHOD:PUBLISH
X-ORIGINAL-URL:https://www.kleinkaliberschuetzen-merligen.ch
X-WR-CALDESC:Veranstaltungen für KK-Merligen
REFRESH-INTERVAL;VALUE=DURATION:PT1H
X-Robots-Tag:noindex
X-PUBLISHED-TTL:PT1H
BEGIN:VTIMEZONE
TZID:Europe/Zurich
BEGIN:DAYLIGHT
TZOFFSETFROM:+0100
TZOFFSETTO:+0200
TZNAME:CEST
DTSTART:20250330T010000
END:DAYLIGHT
BEGIN:STANDARD
TZOFFSETFROM:+0200
TZOFFSETTO:+0100
TZNAME:CET
DTSTART:20251026T010000
END:STANDARD
BEGIN:DAYLIGHT
TZOFFSETFROM:+0100
TZOFFSETTO:+0200
TZNAME:CEST
DTSTART:20260329T010000
END:DAYLIGHT
BEGIN:STANDARD
TZOFFSETFROM:+0200
TZOFFSETTO:+0100
TZNAME:CET
DTSTART:20261025T010000
END:STANDARD
BEGIN:DAYLIGHT
TZOFFSETFROM:+0100
TZOFFSETTO:+0200
TZNAME:CEST
DTSTART:20270328T010000
END:DAYLIGHT
BEGIN:STANDARD
TZOFFSETFROM:+0200
TZOFFSETTO:+0100
TZNAME:CET
DTSTART:20271031T010000
END:STANDARD
END:VTIMEZONE
BEGIN:VEVENT
DTSTART;TZID=Europe/Zurich:20260517T090000
DTEND;TZID=Europe/Zurich:20260517T120000
DTSTAMP:20260421T175515
CREATED:20260216T085449Z
LAST-MODIFIED:20260315T134339Z
UID:3056-1779008400-1779019200@www.kleinkaliberschuetzen-merligen.ch
SUMMARY:Kantonal- und Wehrschiessen Merligen am So
DESCRIPTION:
URL:https://www.kleinkaliberschuetzen-merligen.ch/event/kantonal-und-wehrschiessen-merligen-so/
LOCATION:Schützenhaus Ralligholz\, Bäreggweg\, Merligen\, 3658
CATEGORIES:Ralligholz
END:VEVENT
BEGIN:VEVENT
DTSTART;TZID=Europe/Zurich:20260517T090000
DTEND;TZID=Europe/Zurich:20260517T170000
DTSTAMP:20260421T175515
CREATED:20260112T180556Z
LAST-MODIFIED:20260315T134404Z
UID:2922-1779008400-1779037200@www.kleinkaliberschuetzen-merligen.ch
SUMMARY:Hauptschiesstag MM3
DESCRIPTION:3. Runde: bis 07. Juni 2026
URL:https://www.kleinkaliberschuetzen-merligen.ch/event/hauptschiesstag-mm3/
LOCATION:Schützenhaus Ralligholz\, Bäreggweg\, Merligen\, 3658
CATEGORIES:Mannschaftsmeisterschaft,Ralligholz
END:VEVENT
END:VCALENDAR